BEGIN:VCALENDAR
VERSION:2.0
PRODID:-//DIGITAL FACTORY//EVENTS MAKER V1.6.14//EN
CALSCALE:GREGORIAN
BEGIN:VEVENT
DTEND:20251025
UID:69e7ab7b3a3ee
DTSTAMP:20260421T165315Z
CATEGORIES:Kongresse &amp\; Konferenzen\,Prävention &amp\; Anti-Aging
LOCATION:Austria Trend Hotel Savoyen Rennweg 16, Wien, 1030
ORGANIZER;CN=M. Metka\, J.C. Huber\, W. Clementi:MAILTO:http://menopause@at.kuoni.com
DESCRIPTION:Lokales Wissenschaftliches Komitee:  M. Metka\, J. C. Huber\, W.Clementi  Anmeldung :  Anmeldungen zu den Workshops richten Sie bitte per E-Mail an: menopause@at.kuoni.com  Anmeldung zum Kongress mit  Einladungs-Flyer    Anmeldung zur Fachausstellung  Mehr Information zu dieser Fortbildung finden Sie hier in Kürze: Menopausekongress  Bestellformular für Symposien_Workshops  Bestellformular für Inserate_Werbemöglichkeiten  Bestellformular für Zusatzausstattung  Der Wiener Menopause-Kongress ist die europäische universitäre Plattform auf der fächerübergreifend\, wissenschaftlich und praxisbezogen der Themenkreis »Menopause – Andropause – Anti-Aging« in einem internationalen Forum behandelt wird. Über 90 Vorträge\, Workshops und Symposien bieten allen Teilnehmern »State of the Art« Medizin.
URL;VALUE=URI:https://antiagingconcepts.com/veranstaltungen/event/menopause-andropause-anti-aging-2025-wien
SUMMARY:Menopause\, Andropause\, Anti-Aging 2025 (Wien)
DTSTART:20251023
END:VEVENT
END:VCALENDAR
