BEGIN:VCALENDAR
VERSION:2.0
PRODID:-//DIGITAL FACTORY//EVENTS MAKER V1.6.14//EN
CALSCALE:GREGORIAN
BEGIN:VEVENT
DTEND:20251108
UID:69e7a6ac61545
DTSTAMP:20260421T163244Z
CATEGORIES:Kongresse &amp\; Konferenzen\,Sexualmedizin
LOCATION:AKH Wien, MedUniWien Währinger Gürtel 18-20, Wien, 1090
DESCRIPTION:Präsidentin:  Frau Univ.-Prof. Dr. Michaela BAYERLE-EDER  Einladung:  SEXUALMEDIZIN25_Einladungsfolder  Anmeldung mit Anmeldeformular zur Fachausstellung  Mehr Information zu dieser Fortbildung:  Bestellformular für Workshops  Bestellformular für Inserate\, FKI und Werbemöglichkeiten  Bestellformular für Symposien  Neue Themenschwerpunkte beim Kongress 2025 sind:  • UP–TO-DATE INTERDISZIPLINÄR 2025:  Diagnose und Therapie von Sexualfunktionsstörungen Frau-Mann-LGBTIQA+  • Sexuell gesund bei Diabetes\, Adipositas\, Rheuma\, Herzinsuffizienz und Co  • Sexuelle Gesundheit &amp\; Fruchtbarkeit im Focus: Supplemente\, Vitamine\, Pflanzenkraft\, (natürlicher) Hormonersatz  • Einsatz von Sex Toys und Medizinprodukten  • Andropause/Menopause\, sexuell FIT bis ins hohe Alter  • Sexuell übertragbare Infektionskrankheiten: vermeiden/therapieren  • Interdisziplinäre Fallbeispiele: Psychotherapie-Psychologie-Pflege-Physiotherapie-Medizin    &nbsp\;
URL;VALUE=URI:https://antiagingconcepts.com/veranstaltungen/event/sexualmedizin-interdisziplinaer-2025
SUMMARY:Sexualmedizin Interdisziplinär 2025
DTSTART:20251107
END:VEVENT
END:VCALENDAR
